BEGIN:VCALENDAR
VERSION:2.0
PRODID:-//wp-events-plugin.com//7.2.3.1//EN
TZID:Europe/Berlin
X-WR-TIMEZONE:Europe/Berlin
BEGIN:VEVENT
UID:1502@ub.fau.de
DTSTART;TZID=Europe/Berlin:20250312T140000
DTEND;TZID=Europe/Berlin:20250312T150000
DTSTAMP:20250122T140029Z
URL:https://ub.fau.de/schulungen/zitieren-statt-plagiieren-3/
SUMMARY:Zitieren statt plagiieren
DESCRIPTION:Was ist eine gute Quelle? Darf man Wikipedia-Artikel zitieren? 
 Wie zitiere ich Quellen aus dem Internet?\nBei der Literaturrecherche für
  Ihre nächste Haus- oder Seminararbeit finden Sie sicher zahlreiche Liter
 aturhinweise und Quellen. Um diese in einer wissenschaftlichen Arbeit verw
 enden zu können\, sollten Sie sie sorgfältig prüfen. Was Sie dabei beac
 hten müssen\, erfahren Sie in diesem Workshop! Details und Buchung: https
 ://ub.fau.de/schulungen/zitieren-statt-plagiieren-3/
CATEGORIES:Literaturverwaltung,Zitieren statt Plagiieren
LOCATION:online
X-APPLE-STRUCTURED-LOCATION;VALUE=URI;X-ADDRESS=.\, .\, Deutschland;X-APPLE
 -RADIUS=100;X-TITLE=online:geo:0,0
END:VEVENT
BEGIN:VTIMEZONE
TZID:Europe/Berlin
X-LIC-LOCATION:Europe/Berlin
BEGIN:STANDARD
DTSTART:20241027T020000
TZOFFSETFROM:+0200
TZOFFSETTO:+0100
TZNAME:CET
END:STANDARD
END:VTIMEZONE
END:VCALENDAR