BEGIN:VCALENDAR
VERSION:2.0
PRODID:-//wp-events-plugin.com//7.2.3.1//EN
TZID:Europe/Berlin
X-WR-TIMEZONE:Europe/Berlin
BEGIN:VEVENT
UID:1421@ub.fau.de
DTSTART;TZID=Europe/Berlin:20250205T100000
DTEND;TZID=Europe/Berlin:20250205T110000
DTSTAMP:20240918T112323Z
URL:https://ub.fau.de/schulungen/tipps-und-tricks-zu-camtasia-studio/
SUMMARY:Tipps und Tricks zu Camtasia Studio
DESCRIPTION:Schnell und einfach eine Powerpoint in ein Video umwandeln oder
  ein Erklärvideo erstellen? Dann nutzen Sie Camtasia Studio\, das von der
  FAU als Lizenz angeboten wird. \nDer Kurs beginnt mit einer kurzen Anleit
 ung zur Installation der Software und der ersten Einrichtung. Sie lernen\,
  wo Sie lizenzfreies Material (z. B. Musik\, Bilder und Videos) für Ihre 
 Projekte finden und wie Sie es rechtlich sicher verwenden. Außerdem erfol
 gt eine kurze Einführung in die Benutzeroberfläche und die grundlegenden
  Funktionen von Camtasia Studio. Sie erfahren\, wie Sie Bildschirmaufnahme
 n anfertigen\, Videos schneiden und bearbeiten\, Effekte hinzufügen und I
 hre fertigen Projekte exportieren können.\n\n\nDie Veranstaltung findet h
 ybrid statt. Details und Buchung: https://ub.fau.de/schulungen/tipps-und-t
 ricks-zu-camtasia-studio/
CATEGORIES:Digital Skills HUB
LOCATION:Hauptbibliothek (HB)
GEO:49.596696;11.007575
X-APPLE-STRUCTURED-LOCATION;VALUE=URI;X-ADDRESS=Schuhstraße 1a\, Erlangen\
 , 91052\, Deutschland;X-APPLE-RADIUS=100;X-TITLE=Hauptbibliothek (HB):geo:
 49.596696,11.007575
END:VEVENT
BEGIN:VTIMEZONE
TZID:Europe/Berlin
X-LIC-LOCATION:Europe/Berlin
BEGIN:STANDARD
DTSTART:20241027T020000
TZOFFSETFROM:+0200
TZOFFSETTO:+0100
TZNAME:CET
END:STANDARD
END:VTIMEZONE
END:VCALENDAR