BEGIN:VCALENDAR
VERSION:2.0
PRODID:-//wp-events-plugin.com//7.2.3.1//EN
TZID:Europe/Berlin
X-WR-TIMEZONE:Europe/Berlin
BEGIN:VEVENT
UID:1678@ub.fau.de
DTSTART;TZID=Europe/Berlin:20251119T130000
DTEND;TZID=Europe/Berlin:20251119T140000
DTSTAMP:20251120T113131Z
URL:https://ub.fau.de/schulungen/spielerisch-zu-data-literacy/
SUMMARY:Spielerisch zu Data Literacy
DESCRIPTION:Was meint "Data Literacy" und wie können Lernende und Lehrende
  diese spielerisch aufbauen und vermitteln? Erhalten Sie Einblick in das w
 issenschaftliche und praktische Konzept von Data Literacy\, spielbasierte 
 Vermittlung und Daten in Ihrem Alltag.\n\n&nbsp\; Details und Buchung: htt
 ps://ub.fau.de/schulungen/spielerisch-zu-data-literacy/
CATEGORIES:Digital Skills HUB,KI-Tools
LOCATION:online
X-APPLE-STRUCTURED-LOCATION;VALUE=URI;X-ADDRESS=.\, .\, Deutschland;X-APPLE
 -RADIUS=100;X-TITLE=online:geo:0,0
END:VEVENT
BEGIN:VTIMEZONE
TZID:Europe/Berlin
X-LIC-LOCATION:Europe/Berlin
BEGIN:STANDARD
DTSTART:20251026T020000
TZOFFSETFROM:+0200
TZOFFSETTO:+0100
TZNAME:CET
END:STANDARD
END:VTIMEZONE
END:VCALENDAR