BEGIN:VCALENDAR
VERSION:2.0
PRODID:-//wp-events-plugin.com//7.2.3.1//EN
TZID:Europe/Berlin
X-WR-TIMEZONE:Europe/Berlin
BEGIN:VEVENT
UID:8@ub.fau.de
DTSTART;TZID=Europe/Berlin:99991231T010000
DTEND;TZID=Europe/Berlin:99991231T010000
DTSTAMP:20250625T081726Z
URL:https://ub.fau.de/schulungen/open-access-und-elektronisches-publiziere
 n/
SUMMARY:Open Access und elektronisches Publizieren
DESCRIPTION:\n 	Open Access Modelle (Grüner Weg\, Goldener Weg\, hybrides 
 Open Access)\n 	Auswahl relevanter Open Access-Zeitschriften und Repositor
 ien\; Qualitätskriterien\n 	Möglichkeiten der Kostenerstattung und Rabat
 tierung\n 	Institutionelle Infrastrukturen: OPUS FAU\, CRIS FAU\, FAU Univ
 ersity Press\n 	Open Access Policy der FAU und der wichtigsten Forschungsf
 örderer\n Details und Buchung: https://ub.fau.de/schulungen/open-access-u
 nd-elektronisches-publizieren/
CATEGORIES:Open Access und elektronisches Publizieren
END:VEVENT
BEGIN:VTIMEZONE
TZID:Europe/Berlin
X-LIC-LOCATION:Europe/Berlin
BEGIN:STANDARD
DTSTART:99991031T020000
TZOFFSETFROM:+0200
TZOFFSETTO:+0100
TZNAME:CET
END:STANDARD
END:VTIMEZONE
END:VCALENDAR