BEGIN:VCALENDAR
VERSION:2.0
PRODID:-//wp-events-plugin.com//7.2.3.1//EN
TZID:Europe/Berlin
X-WR-TIMEZONE:Europe/Berlin
BEGIN:VEVENT
UID:22@ub.fau.de
DTSTART;TZID=Europe/Berlin:99991231T100000
DTEND;TZID=Europe/Berlin:99991231T100000
DTSTAMP:20260108T103943Z
URL:https://ub.fau.de/schulungen/literaturverwaltung-mit-citavi/
SUMMARY:Literaturverwaltung mit Citavi
DESCRIPTION:Citavi ist ein Programm zur Literaturverwaltung\, welches die F
 AU ihren Angehörigen als Campuslizenz anbietet.\nEs ist als Desktop-Versi
 on für das Betriebssystem Windows optimiert.\nInhalt des Kurses:\n\n 	Auf
 bau des Programms\n 	Wissenschaftliche Quellen erfassen\n 	Literatur aus F
 achdatenbanken importieren\n 	Gesammelte Literatur organisieren\n 	Literat
 ur mit dem Word Add-In zitieren und Literaturverzeichnis erstellen\n\n&nbs
 p\; Details und Buchung: https://ub.fau.de/schulungen/literaturverwaltung-
 mit-citavi/
CATEGORIES:Citavi,Literaturverwaltung
LOCATION:online
X-APPLE-STRUCTURED-LOCATION;VALUE=URI;X-ADDRESS=.\, .\, Deutschland;X-APPLE
 -RADIUS=100;X-TITLE=online:geo:0,0
END:VEVENT
BEGIN:VTIMEZONE
TZID:Europe/Berlin
X-LIC-LOCATION:Europe/Berlin
BEGIN:STANDARD
DTSTART:99991031T020000
TZOFFSETFROM:+0200
TZOFFSETTO:+0100
TZNAME:CET
END:STANDARD
END:VTIMEZONE
END:VCALENDAR