BEGIN:VCALENDAR
VERSION:2.0
PRODID:-//wp-events-plugin.com//7.2.3.1//EN
TZID:Europe/Berlin
X-WR-TIMEZONE:Europe/Berlin
BEGIN:VEVENT
UID:1815@ub.fau.de
DTSTART;TZID=Europe/Berlin:20260515T100000
DTEND;TZID=Europe/Berlin:20260515T113000
DTSTAMP:20260417T072839Z
URL:https://ub.fau.de/schulungen/literaturverwaltung-mit-citavi-5/
SUMMARY:Literaturverwaltung mit Citavi
DESCRIPTION:\nCitavi ist ein Programm zur Literaturverwaltung\, welches die
  FAU ihren Angehörigen als Campuslizenz anbietet.Es ist als Desktop-Versi
 on für das Betriebssystem Windows optimiert.\n\n\n\nInhalt des Kurses:\n\
 n\n\n\nAufbau des Programms\n\n\n\nWissenschaftliche Quellen erfassen\n\n\
 n\nLiteratur aus Fachdatenbanken importieren\n\n\n\nGesammelte Literatur o
 rganisieren\n\n\n\nLiteratur mit dem Word Add-In zitieren und Literaturver
 zeichnis erstellen\n\n\n\n\nAchtung: Die Teilnahme erfolgt über Zoom!\n\n
 \n\nSie erhalten die Einladung zur Veranstaltung 15 Minuten vor Veranstalt
 ungsbeginn per Mail.\n Details und Buchung: https://ub.fau.de/schulungen/l
 iteraturverwaltung-mit-citavi-5/
CATEGORIES:Citavi,Literaturverwaltung
LOCATION:online
X-APPLE-STRUCTURED-LOCATION;VALUE=URI;X-ADDRESS=.\, .\, Deutschland;X-APPLE
 -RADIUS=100;X-TITLE=online:geo:0,0
END:VEVENT
BEGIN:VTIMEZONE
TZID:Europe/Berlin
X-LIC-LOCATION:Europe/Berlin
BEGIN:DAYLIGHT
DTSTART:20260329T030000
TZOFFSETFROM:+0100
TZOFFSETTO:+0200
TZNAME:CEST
END:DAYLIGHT
END:VTIMEZONE
END:VCALENDAR