BEGIN:VCALENDAR
VERSION:2.0
PRODID:-//wp-events-plugin.com//7.2.3.1//EN
TZID:Europe/Berlin
X-WR-TIMEZONE:Europe/Berlin
BEGIN:VEVENT
UID:1770@ub.fau.de
DTSTART;TZID=Europe/Berlin:20260410T090000
DTEND;TZID=Europe/Berlin:20260410T100000
DTSTAMP:20260408T085907Z
URL:https://ub.fau.de/schulungen/library-and-catalogue-basics-for-internat
 ional-students/
SUMMARY:Library and Catalog Basics for International Students
DESCRIPTION:Welcome to FAU!\n\nIn the 60 minutes online course "Library and
  Catalogue Basics" you will get basic information about your university li
 brary and library services.\nPlus: You will learn about the online catalog
 ue functions and how to access our online resources.\n\nContent\n\n 	Your 
 FAUcard as library card\n 	Locations of FAU library\n 	Learning spaces at 
 FAU library\n 	Online services by FAU library\n--\n 	Search and other func
 tions of the library catalogue\n 	Interlibrary loan and document delivery 
 service\n 	How to find e-books and e-journals\n 	Overview of the database 
 infosystem (DBIS)\n--\n\nThere will be time to answer your questions. Deta
 ils und Buchung: https://ub.fau.de/schulungen/library-and-catalogue-basics
 -for-international-students/
CATEGORIES:Library Courses
LOCATION:online
X-APPLE-STRUCTURED-LOCATION;VALUE=URI;X-ADDRESS=.\, .\, Deutschland;X-APPLE
 -RADIUS=100;X-TITLE=online:geo:0,0
END:VEVENT
BEGIN:VTIMEZONE
TZID:Europe/Berlin
X-LIC-LOCATION:Europe/Berlin
BEGIN:DAYLIGHT
DTSTART:20260329T030000
TZOFFSETFROM:+0100
TZOFFSETTO:+0200
TZNAME:CEST
END:DAYLIGHT
END:VTIMEZONE
END:VCALENDAR