BEGIN:VCALENDAR
VERSION:2.0
PRODID:-//wp-events-plugin.com//7.2.3.1//EN
TZID:Europe/Berlin
X-WR-TIMEZONE:Europe/Berlin
BEGIN:VEVENT
UID:1360@ub.fau.de
DTSTART;TZID=Europe/Berlin:20241007T100000
DTEND;TZID=Europe/Berlin:20241007T110000
DTSTAMP:20241004T102252Z
URL:https://ub.fau.de/schulungen/library-and-catalogue-basics-for-internat
 ional-students-12/
SUMMARY:Library and Catalogue Basics for International Students
DESCRIPTION:In the 60 minutes online course "Library and Catalogue Basics" 
 you will get basic information about your university library and library s
 ervices.\nPlus: You will learn how to find and access literature for your 
 next paper.\n\nContent\n\n 	Your FAUcard as library card\n 	Locations of F
 AU library\n 	Learning spaces at FAU library\n 	Online services by FAU lib
 rary\n--\n 	Search for scientific literature via the library catalogue\n 	
 Interlibrary loan and document delivery service\n 	How to find e-books and
  e-journals\n 	Overview of the database infosystem (DBIS)\n--\n\nThere wil
 l be time to answer your questions. Details und Buchung: https://ub.fau.de
 /schulungen/library-and-catalogue-basics-for-international-students-12/
CATEGORIES:Library Courses
LOCATION:online
X-APPLE-STRUCTURED-LOCATION;VALUE=URI;X-ADDRESS=.\, .\, Deutschland;X-APPLE
 -RADIUS=100;X-TITLE=online:geo:0,0
END:VEVENT
BEGIN:VTIMEZONE
TZID:Europe/Berlin
X-LIC-LOCATION:Europe/Berlin
BEGIN:DAYLIGHT
DTSTART:20240331T030000
TZOFFSETFROM:+0100
TZOFFSETTO:+0200
TZNAME:CEST
END:DAYLIGHT
END:VTIMEZONE
END:VCALENDAR