BEGIN:VCALENDAR
VERSION:2.0
PRODID:-//wp-events-plugin.com//7.2.3.1//EN
TZID:Europe/Berlin
X-WR-TIMEZONE:Europe/Berlin
BEGIN:VEVENT
UID:1372@ub.fau.de
DTSTART;TZID=Europe/Berlin:20240927T100000
DTEND;TZID=Europe/Berlin:20240927T120000
DTSTAMP:20240927T051326Z
URL:https://ub.fau.de/schulungen/gutes-prompting-mit-chatgpt-interaktiver-
 online-workshop/
SUMMARY:Gutes Prompting mit ChatGPT. Interaktiver Online-Workshop
DESCRIPTION:In diesem interaktiven Online-Workshop arbeiten wir an der gezi
 elten Kommunikation mit ChatGPT.\n\nFolgende Themen bilden den Rahmen:\n\n
  	Wie funktioniert ChatGPT?\n 	Wie formuliere ich effektive Aufträge an C
 hatGPT\, sogenannte Prompts?\n 	Wie bewerte ich die Antworten des Chatbots
 ?\n 	Für welche Fragestellungen ist ChatGPT hilfreich\, für welche wenig
 er?\n\n&nbsp\;\n\nZielgruppe:\n\nStudierende und weitere Interessierte.\nV
 orkenntnisse nicht erforderlich.\n\n\nVoraussetzungen:\n- Aktive Teilnahme
 \n- Laptop oder PC mit Internetverbindung und Headset. Kamera ist wünsche
 nswert.\n- Bitte bringen Sie für eine Aufgabe eine individuelle Fragestel
 lung mit\, die Sie mit ChatGPT bearbeiten möchten. Details und Buchung: h
 ttps://ub.fau.de/schulungen/gutes-prompting-mit-chatgpt-interaktiver-onlin
 e-workshop/
ATTACH;FMTTYPE=image/jpeg:https://ub.fau.de/wp-content/uploads/2024/06/pex
 els-googledeepmind-17484975-scaled.jpg
CATEGORIES:Abgesagt,Digital Skills HUB,KI-Tools
LOCATION:online
X-APPLE-STRUCTURED-LOCATION;VALUE=URI;X-ADDRESS=.\, .\, Deutschland;X-APPLE
 -RADIUS=100;X-TITLE=online:geo:0,0
END:VEVENT
BEGIN:VTIMEZONE
TZID:Europe/Berlin
X-LIC-LOCATION:Europe/Berlin
BEGIN:DAYLIGHT
DTSTART:20240331T030000
TZOFFSETFROM:+0100
TZOFFSETTO:+0200
TZNAME:CEST
END:DAYLIGHT
END:VTIMEZONE
END:VCALENDAR