BEGIN:VCALENDAR
VERSION:2.0
PRODID:-//wp-events-plugin.com//7.2.3.1//EN
TZID:Europe/Berlin
X-WR-TIMEZONE:Europe/Berlin
BEGIN:VEVENT
UID:1694@ub.fau.de
DTSTART;TZID=Europe/Berlin:20251027T150000
DTEND;TZID=Europe/Berlin:20251027T153000
DTSTAMP:20250919T113515Z
URL:https://ub.fau.de/schulungen/guided-library-tour-wiso-library-nurember
 g-27/
SUMMARY:Guided Library Tour: WiSo Library Nuremberg
DESCRIPTION:For international students\, we offer guided tours to get to kn
 ow our location and services on-site.\n\nYou will get answers to your ques
 tions concerning the WiSo Library in Nuremberg (= Economic and Social Scie
 nces Branch Library).\nMeeting point: WiSo Faculty Building\, Entrance Hal
 l (Ground floor level 1)\nAddress: Lange Gasse 20\, 90403 Nuremberg (near 
 metro "Rathenauplatz")\n\nContents\n\n 	How do I activate my FAUcard for l
 ibrary use?\n 	Where can I find the most important textbooks and reference
  works for my subject area?\n 	How do I find a desk in the reading rooms o
 f the library?\n 	Where can I find printers\, scanners and copying machine
 s?\n\n  Details und Buchung: https://ub.fau.de/schulungen/guided-library-
 tour-wiso-library-nuremberg-27/
CATEGORIES:Library Courses
LOCATION:Wirtschafts- und Sozialwissenschaftliche Zweigbibliothek (WSZB)
GEO:49.458129;11.08618
X-APPLE-STRUCTURED-LOCATION;VALUE=URI;X-ADDRESS=Lange Gasse 20\, Ebene 3\, 
 Eingang Bibliothek\, Nürnberg\, Bayern\, 90403\, Deutschland;X-APPLE-RADI
 US=100;X-TITLE=Wirtschafts- und Sozialwissenschaftliche Zweigbibliothek (W
 SZB):geo:49.458129,11.08618
END:VEVENT
BEGIN:VTIMEZONE
TZID:Europe/Berlin
X-LIC-LOCATION:Europe/Berlin
BEGIN:STANDARD
DTSTART:20251026T020000
TZOFFSETFROM:+0200
TZOFFSETTO:+0100
TZNAME:CET
END:STANDARD
END:VTIMEZONE
END:VCALENDAR