BEGIN:VCALENDAR
VERSION:2.0
PRODID:-//wp-events-plugin.com//7.2.3.1//EN
TZID:Europe/Berlin
X-WR-TIMEZONE:Europe/Berlin
BEGIN:VEVENT
UID:1370@ub.fau.de
DTSTART;TZID=Europe/Berlin:20241008T130000
DTEND;TZID=Europe/Berlin:20241008T133000
DTSTAMP:20240708T140905Z
URL:https://ub.fau.de/schulungen/guided-library-tour-tnzb-erlangen-19/
SUMMARY:Guided Library Tour: TNZB Erlangen
DESCRIPTION:For students at FAU\, the University Library offers the possibi
 lity to get to know our locations and services on-site.\nContents\nYou wil
 l get answers to many questions concerning the Science and Technology Bran
 ch Library Erlangen.\nAddress: Erwin-Rommel-Str. 60\, 91058 Erlangen\n\n 	
 How do I activate my FAUcard for library use?\n 	Where can I find the most
  important textbooks and reference works for my subject area?\n 	How do I 
 reserve a desk in the reading rooms of the library?\n 	Where can I find pr
 inters\, scanners and copying machines?\n\nThe number of participants is l
 imited. Therefore it is necessary to register for this event via our websi
 te. Details und Buchung: https://ub.fau.de/schulungen/guided-library-tour-
 tnzb-erlangen-19/
CATEGORIES:Library Courses
LOCATION:Technisch-naturwissenschaftliche Zweigbibliothek (TNZB)
GEO:49.574145;11.029024
X-APPLE-STRUCTURED-LOCATION;VALUE=URI;X-ADDRESS=Erwin-Rommel-Str. 60\, Erla
 ngen\, Bayern\, 91058\, Erlangen\, Deutschland;X-APPLE-RADIUS=100;X-TITLE=
 Technisch-naturwissenschaftliche Zweigbibliothek (TNZB):geo:49.574145,11.0
 29024
END:VEVENT
BEGIN:VTIMEZONE
TZID:Europe/Berlin
X-LIC-LOCATION:Europe/Berlin
BEGIN:DAYLIGHT
DTSTART:20240331T030000
TZOFFSETFROM:+0100
TZOFFSETTO:+0200
TZNAME:CEST
END:DAYLIGHT
END:VTIMEZONE
END:VCALENDAR