BEGIN:VCALENDAR
VERSION:2.0
PRODID:-//wp-events-plugin.com//7.2.3.1//EN
TZID:Europe/Berlin
X-WR-TIMEZONE:Europe/Berlin
BEGIN:VEVENT
UID:1829@ub.fau.de
DTSTART;TZID=Europe/Berlin:20260507T123000
DTEND;TZID=Europe/Berlin:20260507T130000
DTSTAMP:20260421T151213Z
URL:https://ub.fau.de/schulungen/coffee-lecture-katalog-update-5/
SUMMARY:Coffee lecture: Katalog Update
DESCRIPTION:\nWas ist neu im Katalog der Universitätsbibliothek? Wir zeige
 n Ihnen kurz und kompakt alles\, was Sie wissen müssen!\n\n\n\n\ndirekt m
 it der Recherche starten\, ohne Vorauswahl eines Abholortes\n\n\n\neinlogg
 en mit Ihrer IdM-Kennung\n\n\n\nBücher bestellen aus den Bibliotheken der
  FAU und anderen Bibliotheken Deutschlands\n\n\n\nE-Books und E-Journals a
 uf einen Klick\n\n\n\n\nZielgruppe: Studierende und Beschäftigte der FAU\
 n Details und Buchung: https://ub.fau.de/schulungen/coffee-lecture-katalog
 -update-5/
CATEGORIES:Basics,Bibliotheks-Basics (online),Coffee
 Lectures,Recherche-Basics (online)
LOCATION:online
X-APPLE-STRUCTURED-LOCATION;VALUE=URI;X-ADDRESS=.\, .\, Deutschland;X-APPLE
 -RADIUS=100;X-TITLE=online:geo:0,0
END:VEVENT
BEGIN:VTIMEZONE
TZID:Europe/Berlin
X-LIC-LOCATION:Europe/Berlin
BEGIN:DAYLIGHT
DTSTART:20260329T030000
TZOFFSETFROM:+0100
TZOFFSETTO:+0200
TZNAME:CEST
END:DAYLIGHT
END:VTIMEZONE
END:VCALENDAR