BEGIN:VCALENDAR
VERSION:2.0
PRODID:-//wp-events-plugin.com//7.2.3.1//EN
TZID:Europe/Berlin
X-WR-TIMEZONE:Europe/Berlin
BEGIN:VEVENT
UID:1834@ub.fau.de
DTSTART;TZID=Europe/Berlin:20260513T123000
DTEND;TZID=Europe/Berlin:20260513T130000
DTSTAMP:20260421T151333Z
URL:https://ub.fau.de/schulungen/coffee-lecture-catalog-update-3/
SUMMARY:Coffee lecture: Catalog Update
DESCRIPTION:\nWhat is new in the University Library Catalog? We will give y
 ou a quick and concise overview of everything you need to know!\n\n\n\n\nS
 tart searching right away without selecting a pickup location first\n\n\n\
 nLogin with your IdM credentials\n\n\n\nOrder Books from FAU Libraries or 
 other libraries\n\n\n\nRead and Save E-Books and E-journals\n\n\n\n\nFor F
 AU Students and Staff\n Details und Buchung: https://ub.fau.de/schulungen/
 coffee-lecture-catalog-update-3/
CATEGORIES:Library Courses
LOCATION:online
X-APPLE-STRUCTURED-LOCATION;VALUE=URI;X-ADDRESS=.\, .\, Deutschland;X-APPLE
 -RADIUS=100;X-TITLE=online:geo:0,0
END:VEVENT
BEGIN:VTIMEZONE
TZID:Europe/Berlin
X-LIC-LOCATION:Europe/Berlin
BEGIN:DAYLIGHT
DTSTART:20260329T030000
TZOFFSETFROM:+0100
TZOFFSETTO:+0200
TZNAME:CEST
END:DAYLIGHT
END:VTIMEZONE
END:VCALENDAR