BEGIN:VCALENDAR
VERSION:2.0
PRODID:-//wp-events-plugin.com//7.2.3.1//EN
TZID:Europe/Berlin
X-WR-TIMEZONE:Europe/Berlin
BEGIN:VEVENT
UID:1564@ub.fau.de
DTSTART;TZID=Europe/Berlin:20250507T130000
DTEND;TZID=Europe/Berlin:20250507T140000
DTSTAMP:20250429T105504Z
URL:https://ub.fau.de/schulungen/audio-und-podcast-basics-am-besispiel-von
 -audacity/
SUMMARY:Audio und Podcast Basics am Beispiel von Audacity
DESCRIPTION:Einführung in das Freeware Tool "Audacity" für die Erstellung
  von eigenen Audio- und Podcast- Aufnahmen. Aufzeichnung und Editierung an
 hand von Hörbeispielen.\n\n&nbsp\; Details und Buchung: https://ub.fau.de
 /schulungen/audio-und-podcast-basics-am-besispiel-von-audacity/
CATEGORIES:Digital Skills HUB,KI-Tools
LOCATION:online
X-APPLE-STRUCTURED-LOCATION;VALUE=URI;X-ADDRESS=.\, .\, Deutschland;X-APPLE
 -RADIUS=100;X-TITLE=online:geo:0,0
END:VEVENT
BEGIN:VTIMEZONE
TZID:Europe/Berlin
X-LIC-LOCATION:Europe/Berlin
BEGIN:DAYLIGHT
DTSTART:20250330T030000
TZOFFSETFROM:+0100
TZOFFSETTO:+0200
TZNAME:CEST
END:DAYLIGHT
END:VTIMEZONE
END:VCALENDAR